BEGIN:VCALENDAR
VERSION:2.0
PRODID:spatie/icalendar-generator
NAME:Michael Girbes – Schulung &amp\; Beratung
X-WR-CALNAME:Michael Girbes – Schulung &amp\; Beratung
DESCRIPTION:Veranstaltungen für Michael Girbes – Schulung &amp\; Beratun
 g
X-WR-CALDESC:Veranstaltungen für Michael Girbes – Schulung &amp\; Beratu
 ng
BEGIN:VEVENT
UID:7408-1781733600-1781906340@www.michael-girbes.de
DTSTAMP:20260423T091706Z
SUMMARY:Ausbildung zur Ladungssicherung nach VDI 2700a – Online
DESCRIPTION:
X-MICROSOFT-CDO-ALLDAYEVENT:TRUE
URL:https://www.michael-girbes.de/event/ausbildung-zur-ladungssicherung-nac
 h-vdi-2700a-online18626/
DTSTART;VALUE=DATE:20260618
DTEND;VALUE=DATE:20260619
END:VEVENT
END:VCALENDAR