BEGIN:VCALENDAR
VERSION:2.0
PRODID:spatie/icalendar-generator
NAME:Michael Girbes – Schulung &amp\; Beratung
X-WR-CALNAME:Michael Girbes – Schulung &amp\; Beratung
DESCRIPTION:Veranstaltungen für Michael Girbes – Schulung &amp\; Beratun
 g
X-WR-CALDESC:Veranstaltungen für Michael Girbes – Schulung &amp\; Beratu
 ng
BEGIN:VEVENT
UID:7410-1793055600-1793228340@www.michael-girbes.de
DTSTAMP:20260423T093637Z
SUMMARY:Ausbildung zur Ladungssicherung nach VDI 2700a – Präsenz
DESCRIPTION:
LOCATION:Jülicher Str. 49 - 51\, Übach – Palenberg\, 52531\, Deutschlan
 d
X-MICROSOFT-CDO-ALLDAYEVENT:TRUE
URL:https://www.michael-girbes.de/event/ausbildung-zur-ladungssicherung-nac
 h-vdi-2700a-praesenz271026/
DTSTART;VALUE=DATE:20261027
DTEND;VALUE=DATE:20261028
END:VEVENT
END:VCALENDAR