BEGIN:VCALENDAR
VERSION:2.0
PRODID:spatie/icalendar-generator
NAME:Michael Girbes – Schulung &amp\; Beratung
X-WR-CALNAME:Michael Girbes – Schulung &amp\; Beratung
DESCRIPTION:Veranstaltungen für Michael Girbes – Schulung &amp\; Beratun
 g
X-WR-CALDESC:Veranstaltungen für Michael Girbes – Schulung &amp\; Beratu
 ng
BEGIN:VTIMEZONE
TZID:Europe/Berlin
BEGIN:DAYLIGHT
DTSTART:20260329T020000Z
TZOFFSETFROM:+0100
TZOFFSETTO:+0200
END:DAYLIGHT
BEGIN:STANDARD
DTSTART:20261025T030000Z
TZOFFSETFROM:+0200
TZOFFSETTO:+0100
END:STANDARD
BEGIN:DAYLIGHT
DTSTART:20270328T020000Z
TZOFFSETFROM:+0100
TZOFFSETTO:+0200
END:DAYLIGHT
END:VTIMEZONE
BEGIN:VTIMEZONE
TZID:UTC
BEGIN:STANDARD
DTSTART:20250727T135939Z
TZOFFSETFROM:+0000
TZOFFSETTO:+0000
END:STANDARD
END:VTIMEZONE
BEGIN:VEVENT
UID:7400-1791356400-1791383400@www.michael-girbes.de
DTSTAMP:20260423T135939Z
SUMMARY:Grundlagen der Ladungssicherung – Online
DESCRIPTION:
URL:https://www.michael-girbes.de/event/grundlagen-der-ladungssicherung-onl
 ine71026/
DTSTART;TZID=Europe/Berlin:20261007T090000
DTEND;TZID=Europe/Berlin:20261007T163000
END:VEVENT
END:VCALENDAR