BEGIN:VCALENDAR
VERSION:2.0
PRODID:spatie/icalendar-generator
NAME:Michael Girbes – Schulung &amp\; Beratung
X-WR-CALNAME:Michael Girbes – Schulung &amp\; Beratung
DESCRIPTION:Veranstaltungen für Michael Girbes – Schulung &amp\; Beratun
 g
X-WR-CALDESC:Veranstaltungen für Michael Girbes – Schulung &amp\; Beratu
 ng
BEGIN:VTIMEZONE
TZID:Europe/Berlin
BEGIN:DAYLIGHT
DTSTART:20260329T020000Z
TZOFFSETFROM:+0100
TZOFFSETTO:+0200
END:DAYLIGHT
BEGIN:STANDARD
DTSTART:20261025T030000Z
TZOFFSETFROM:+0200
TZOFFSETTO:+0100
END:STANDARD
BEGIN:DAYLIGHT
DTSTART:20270328T020000Z
TZOFFSETFROM:+0100
TZOFFSETTO:+0200
END:DAYLIGHT
END:VTIMEZONE
BEGIN:VTIMEZONE
TZID:UTC
BEGIN:STANDARD
DTSTART:20250727T111821Z
TZOFFSETFROM:+0000
TZOFFSETTO:+0000
END:STANDARD
END:VTIMEZONE
BEGIN:VEVENT
UID:7413-1794294000-1794326400@www.michael-girbes.de
DTSTAMP:20260423T111821Z
SUMMARY:Weiterbildung für Dozenten und andere Fachkräfte der Ladungssiche
 rung – Präsenz
DESCRIPTION:
LOCATION:Jülicher Str. 49 - 51\, Übach – Palenberg\, 52531\, Deutschlan
 d
URL:https://www.michael-girbes.de/event/weiterbildung-fuer-dozenten-und-and
 ere-fachkraefte-der-ladungssicherung-praesenz101126/
DTSTART;TZID=Europe/Berlin:20261110T080000
DTEND;TZID=Europe/Berlin:20261110T170000
END:VEVENT
END:VCALENDAR